Workbook

Sheet ≪入力例≫評価報告書
A1: 周南市短期集中予防サービス 評価報告書
A3: 種別 | B3: 通所型 | D3: 事業所名 | E3: ○○事業所 | J3: ←自動反映されます
A4: フリガナ | B4: シュウナン タロウ | E4: 生年月日 | F4: 年齢（自動反映） | G4: 担当CM等 ※敬称略
A5: 氏名 | B5: 周南 太郎 | D5: 様 | E5: 16720 | F5: =IFERROR(IF(E5="","",(DATEDIF(E5,D7,"Y"))),"") -> 80 | G5: □□包括 △△
D6: 開 始 前 | F6: 開 始 後
A7: 実 施 日 | D7: 46204 | F7: 46295 | H7: ←西暦で入力されます
A8: 身長 | D8: 160 | F8: 160 | H8: ←数字を入れると自動でcmが反映されます
A9: 体重 | D9: 50 | F9: 51 | H9: ←数字を入れると自動で㎏が反映されます
A10: ＢＭＩ(自動反映) | D10: =IFERROR(D9/(D8/100)/(D8/100),"") -> 19.53125 | F10: =IFERROR(F9/(F8/100)/(F8/100),"") -> 19.921875 | H10: ←身長と体重を入力すると自動で反映されます
A11: 体力測定 | B11: 握力（左右） | D11: 右 | E11: 左 | F11: 右 | G11: 左
D12: 20 | E12: 15 | F12: 22 | G12: 17 | H12: ←数字を入れると自動で㎏が反映されます
B13: 開眼片足立ち（左右） | D13: 右 | E13: 左 | F13: 右 | G13: 左
D14: 5 | E14: 5 | F14: 7 | G14: 7 | H14: ←数字を入れると自動で秒が反映されます
B15: ＣＳ－30 | D15: 3 | F15: 10 | H15: ←数字を入れると自動で回が反映されます
B16: ＴＵＧ | D16: 20 | F16: 10 | H16: ←数字を入れると自動で秒が反映されます
A17: 記述式評価 | B17: 主観的健康観(※1) | D17: 5 | F17: 4
B18: 老研式活動能力指標 | D18: 7 | F18: 9 | H18: ←数字を入れると自動で点が反映されます
B19: ＧＤＳ | D19: 8 | F19: 5 | H19: ←数字を入れると自動で点が反映されます
B20: その他 （ ）
A22: 栄養・食生活について | D22: 指導 | E22: 備考 | H22: ←プルダウン形式 | J22: 説明
A23: 口腔について | D23: 説明 | E23: 備考 | H23: ←プルダウン形式 | J23: 指導
A24: (※1) 1：最高に良い 2：とても良い 3：良い 4：あまり良くない 5：良くない 6：全然良くない | J24: 説明・指導
A25: ●利用者の変化（意識、言動、行動等）
A29: ●今後について
A30: インフォーマル （活動・参加・役割）
A31: 介護保険サービス | B31: もともと利用 | F31: 地域資源 連携加算※ (事業所で記入） | G31: 該当 | H31: ←プルダウン形式 | J31: 該当
B32: 期間中開始 | J32: 非該当
B33: 終了後予定
A34: ※地域資源連携加算は終了後に訪問介護、通所系サービスを利用しない場合は「該当」
A35: 同一事業所で サービス利用の理由 | C35: 「○○の疾患があり、通所リハを行うことが望ましいため」等の同一事業所での介護サービスを利用する場合のみ理由を記載してください。なお、終了後に同一事業所に関わらず訪問・通所の介護サービスを利用する場合は地域資源連携加算は『非該当』になります。 | H35: ←該当する場合のみ記載
A36: この報告書は、翌月１０日までに、地域福祉課に提出してください。

Sheet ≪入力例≫フォロー報告書
A1: 周南市短期集中予防サービス フォロー報告書【1回目】
A3: 種別 | B3: 通所型 | D3: 事業所名 | E3: ○○事業所 | J3: ←自動反映及び評価報告書から参照されます
A4: フリガナ | B4: シュウナン タロウ | E4: 生年月日 | F4: 年齢（自動反映） | G4: 担当CM等 ※敬称略
A5: 氏名 | B5: 周南 太郎 | D5: 様 | E5: 16720 | F5: =IFERROR(IF(E5="","",(DATEDIF(E5,F7,"Y"))),"") -> 81 | G5: □□包括 △△
D6: 前回 | F6: フォロー時
A7: 実 施 日 | D7: 46295 | F7: 46366 | H7: ←西暦で入力されます
A8: 身長 | D8: 160 | F8: 160 | H8: ←数字を入れると自動でcmが反映されます
A9: 体重 | D9: 51 | F9: 51 | H9: ←数字を入れると自動で㎏が反映されます
A10: ＢＭＩ(自動反映) | D10: =IFERROR(D9/(D8/100)/(D8/100),"") -> 19.921875 | F10: =IFERROR(F9/(F8/100)/(F8/100),"") -> 19.921875 | H10: ←身長と体重を入力すると自動で反映されます
A11: 体力測定 | B11: 握力（左右） | D11: 右 | E11: 左 | F11: 右 | G11: 左
D12: 22 | E12: 17 | F12: 22 | G12: 17 | H12: ←数字を入れると自動で㎏が反映されます
B13: 開眼片足立ち（左右） | D13: 右 | E13: 左 | F13: 右 | G13: 左
D14: 7 | E14: 7 | F14: 8 | G14: 8 | H14: ←数字を入れると自動で秒が反映されます
B15: ＣＳ－30 | D15: 10 | F15: 10 | H15: ←数字を入れると自動で回が反映されます
B16: ＴＵＧ | D16: 10 | F16: 10 | H16: ←数字を入れると自動で秒が反映されます
A17: 記述式評価 | B17: 主観的健康観(※1) | D17: 4 | F17: 4
B18: 老研式活動能力指標 | D18: 9 | F18: 9 | H18: ←数字を入れると自動で点が反映されます
B19: ＧＤＳ | D19: 5 | F19: 5 | H19: ←数字を入れると自動で点が反映されます
B20: その他 （ ）
A22: (※1) 1：最高に良い 2：とても良い 3：良い 4：あまり良くない 5：良くない 6：全然良くない
A23: ●コメント
A24: 利用者の維持状況（セルフマネジメント力、生活機能、心身の状況など）
A26: 利用者への助言内容
A28: モニタリング時の視点や配慮をお願いしたいこと（事業所→包括）

Sheet 【入力用】評価報告書
A1: 周南市短期集中予防サービス 評価報告書
A3: 種別 | B3: 通所型 | D3: 事業所名
A4: フリガナ | E4: 生年月日 | F4: 年齢（自動反映） | G4: 担当CM等 ※敬称略
A5: 氏名 | D5: 様 | F5: =IFERROR(IF(E5="","",(DATEDIF(E5,D7,"Y"))),"")
D6: 開 始 前 | F6: 開 始 後
A7: 実 施 日
A8: 身長
A9: 体重
A10: ＢＭＩ(自動反映) | D10: =IFERROR(D9/(D8/100)/(D8/100),"") | F10: =IFERROR(F9/(F8/100)/(F8/100),"")
A11: 体力測定 | B11: 握力（左右） | D11: 右 | E11: 左 | F11: 右 | G11: 左
B13: 開眼片足立ち（左右） | D13: 右 | E13: 左 | F13: 右 | G13: 左
B15: ＣＳ－30
B16: ＴＵＧ
A17: 記述式評価 | B17: 主観的健康観(※1)
B18: 老研式活動能力指標
B19: ＧＤＳ
B20: その他 （ ）
A22: 栄養・食生活について | E22: 備考 | J22: 説明
A23: 口腔について | E23: 備考 | J23: 指導
A24: (※1) 1：最高に良い 2：とても良い 3：良い 4：あまり良くない 5：良くない 6：全然良くない | J24: 説明・指導
A25: ●利用者の変化（意識、言動、行動等）
A29: ●今後について
A30: インフォーマル （活動・参加・役割）
A31: 介護保険サービス | B31: もともと利用 | F31: 地域資源 連携加算※ (事業所で記入） | J31: 該当
B32: 期間中開始 | J32: 非該当
B33: 終了後予定
A34: ※地域資源連携加算は終了後に訪問介護、通所系サービスを利用しない場合は「該当」
A35: 同一事業所で サービス利用の理由
A36: この報告書は、翌月１０日までに、地域福祉課に提出してください。

Sheet 【入力用】フォロー報告書【1回目】
A1: 周南市短期集中予防サービス フォロー報告書【1回目】
A3: 種別 | B3: =【入力用】評価報告書!B3 -> 通所型 | D3: 事業所名 | E3: =【入力用】評価報告書!E3 -> 0
A4: フリガナ | B4: =【入力用】評価報告書!B4 -> 0 | E4: 生年月日 | F4: 年齢（自動反映） | G4: 担当CM等 ※敬称略
A5: 氏名 | B5: =【入力用】評価報告書!B5 -> 0 | D5: 様 | E5: =【入力用】評価報告書!E5 -> 0 | F5: =IFERROR(IF(E5="","",(DATEDIF(E5,F7,"Y"))),"") -> 0 | G5: =【入力用】評価報告書!G5 -> 0
D6: 前回 | F6: フォロー時
A7: 実 施 日 | D7: =【入力用】評価報告書!F7 -> 0
A8: 身長 | D8: =【入力用】評価報告書!F8 -> 0
A9: 体重 | D9: =【入力用】評価報告書!F9 -> 0
A10: ＢＭＩ(自動反映) | D10: =IFERROR(D9/(D8/100)/(D8/100),"") | F10: =IFERROR(F9/(F8/100)/(F8/100),"")
A11: 体力測定 | B11: 握力（左右） | D11: 右 | E11: 左 | F11: 右 | G11: 左
D12: =【入力用】評価報告書!F12 -> 0 | E12: =【入力用】評価報告書!G12 -> 0
B13: 開眼片足立ち（左右） | D13: 右 | E13: 左 | F13: 右 | G13: 左
D14: =【入力用】評価報告書!F14 -> 0 | E14: =【入力用】評価報告書!G14 -> 0
B15: ＣＳ－30 | D15: =【入力用】評価報告書!F15 -> 0
B16: ＴＵＧ | D16: =【入力用】評価報告書!F16 -> 0
A17: 記述式評価 | B17: 主観的健康観(※1) | D17: =【入力用】評価報告書!F17 -> 0
B18: 老研式活動能力指標 | D18: =【入力用】評価報告書!F18 -> 0
B19: ＧＤＳ | D19: =【入力用】評価報告書!F19 -> 0
B20: その他 （ ） | D20: =【入力用】評価報告書!F20 -> 0
A22: (※1) 1：最高に良い 2：とても良い 3：良い 4：あまり良くない 5：良くない 6：全然良くない
A23: ●コメント
A24: 利用者の維持状況（セルフマネジメント力、生活機能、心身の状況など）
A26: 利用者への助言内容
A28: モニタリング時の視点や配慮をお願いしたいこと（事業所→包括）

Sheet 【入力用】フォロー報告書【2回目】
A1: 周南市短期集中予防サービス フォロー報告書【2回目】
A3: 種別 | B3: =【入力用】評価報告書!B3 -> 通所型 | D3: 事業所名 | E3: =【入力用】評価報告書!E3 -> 0
A4: フリガナ | B4: =【入力用】評価報告書!B4 -> 0 | E4: 生年月日 | F4: 年齢（自動反映） | G4: 担当CM等 ※敬称略
A5: 氏名 | B5: =【入力用】評価報告書!B5 -> 0 | D5: 様 | E5: =【入力用】評価報告書!E5 -> 0 | F5: =IFERROR(IF(E5="","",(DATEDIF(E5,F7,"Y"))),"") -> 0 | G5: =【入力用】評価報告書!G5 -> 0
D6: 1回目フォロー時 | F6: 2回目フォロー時
A7: 実 施 日 | D7: =【入力用】フォロー報告書【1回目】!F7 -> 0
A8: 身長 | D8: =【入力用】フォロー報告書【1回目】!F8 -> 0
A9: 体重 | D9: =【入力用】フォロー報告書【1回目】!F9 -> 0
A10: ＢＭＩ(自動反映) | D10: =IFERROR(D9/(D8/100)/(D8/100),"") | F10: =IFERROR(F9/(F8/100)/(F8/100),"")
A11: 体力測定 | B11: 握力（左右） | D11: 右 | E11: 左 | F11: 右 | G11: 左
D12: =【入力用】フォロー報告書【1回目】!F12 -> 0 | E12: =【入力用】フォロー報告書【1回目】!G12 -> 0
B13: 開眼片足立ち（左右） | D13: 右 | E13: 左 | F13: 右 | G13: 左
D14: =【入力用】フォロー報告書【1回目】!F14 -> 0 | E14: =【入力用】フォロー報告書【1回目】!G14 -> 0
B15: ＣＳ－30 | D15: =【入力用】フォロー報告書【1回目】!F15 -> 0
B16: ＴＵＧ | D16: =【入力用】フォロー報告書【1回目】!F16 -> 0
A17: 記述式評価 | B17: 主観的健康観(※1) | D17: =【入力用】フォロー報告書【1回目】!F17 -> 0
B18: 老研式活動能力指標 | D18: =【入力用】フォロー報告書【1回目】!F18 -> 0
B19: ＧＤＳ | D19: =【入力用】フォロー報告書【1回目】!F19 -> 0
B20: その他 （ ） | D20: =【入力用】評価報告書!F20 -> 0
A22: (※1) 1：最高に良い 2：とても良い 3：良い 4：あまり良くない 5：良くない 6：全然良くない
A23: ●コメント
A24: 利用者の維持状況（セルフマネジメント力、生活機能、心身の状況など）
A26: 利用者への助言内容
A28: モニタリング時の視点や配慮をお願いしたいこと（事業所→包括）
