Workbook
Name \A: #REF!
Name \B: #REF!
Name \C: #REF!
Name \D: #REF!
Name \E: #REF!
Name \F: #REF!
Name \G: #REF!
Name \H: #REF!
Name \I: #REF!
Name \J: #REF!
Name \K: #REF!
Name \L: #REF!
Name \P: #REF!
Name \S: #REF!
Name \T: #REF!
Name \Z: #REF!
Name a: [1]入力表!#REF!
Name aaa: #REF!
Name aaa: #REF!
Name b: [1]入力表!#REF!
Name d: [1]入力表!#REF!
Name home: #REF!
Name home: #REF!
Name I4i679: #REF!
Name I4i679: #REF!
Name ば32: #REF!
Name 安全費率: #REF!
Name 営繕損料率: #REF!
Name 概算工事金額: #REF!
Name 款項目: [2]入力表!#REF!
Name 管種: #REF!
Name 業者一覧: #REF!
Name 業者一覧: #REF!
Name 契約締結: #REF!
Name 契約締結: #REF!
Name 口径: #REF!
Name 細々節: [2]入力表!#REF!
Name 細事業: [2]入力表!#REF!
Name 細事業２: [2]入力表!#REF!
Name 細事業３: [2]入力表!#REF!
Name 細事業４: [2]入力表!#REF!
Name 施工単価総括表: #REF!
Name 資産区分: #REF!
Name 資産名称: #REF!
Name 準備費: #REF!
Name 諸費用計算: #REF!
Name 条件入力項目表: #REF!
Name 精算: #REF!
Name 精算: #REF!
Name 精算書表: #REF!
Name 精算書表: #REF!
Name 精算書表・裏: #REF!
Name 精算書表・裏: #REF!
Name 精算書裏: #REF!
Name 精算書裏: #REF!
Name 精算裏: #REF!
Name 精算裏: #REF!
Name 税抜き金額: #REF!
Name 税抜き金額: #REF!
Name 設備区分: #REF!

Sheet 設計図書表紙 (金抜き)
A8: 周 南 市 上 下 水 道 局
A10: =[5]設計図書表紙!A10 -> 令和8年度 | H10: =[5]設計図書表紙!H10 -> 業務委託 | N10: =[5]設計図書表紙!N10 -> 当 初 | S10: =[5]設計図書表紙!S10 -> 設 計 図 書 表 紙
A12: =[5]設計図書表紙!A12 -> 業務の名称 | F12: =[5]設計図書表紙!F12 -> 樋口配水池計装機器点検業務委託
A15: =[5]設計図書表紙!A15 -> 履 行 場 所 | F15: =[5]設計図書表紙!F15 -> 周南市樋口配水池関係施設地内
A17: =[5]設計図書表紙!A17 -> 委 託 期 間 | G17: =[5]設計図書表紙!G17 -> 契約日 | P17: =[5]設計図書表紙!P17 -> から | S17: =[5]設計図書表紙!S17 -> 46458 | AB17: =[5]設計図書表紙!AB17 -> まで
F19: =[5]設計図書表紙!F19 -> ( | H19: =[5]設計図書表紙!H19 -> 着手の日から | N19: =[5]設計図書表紙!N19 -> - | R19: =[5]設計図書表紙!R19 -> 日間 | U19: =[5]設計図書表紙!U19 -> )
A21: =[5]設計図書表紙!A21 -> 設計年月日 | F21: =[5]設計図書表紙!F21 -> 46290 | S21: =[5]設計図書表紙!S21 -> 単価適用日 | X21: =[5]設計図書表紙!X21 -> 46296
A23: 業務担当課 | F23: 浄水課 | S23: 設計者名
A25: 執 行 理 由
D26: 計装機器設備は浄水場運転の根幹を担うものであり、その劣化等により故障が発生した際には、浄水場の運転管理に重大な支障をきたす。 本業務委託において計装機器設備の点検を実施し、各機器の状態把握と劣化等への事前処置により、浄水場運転の安全性と確実性の向上を図るものである。
A31: 業 務 概 要
C34: ● 点検対象箇所 | S34: ● 点検内容
D36: 樋口配水池関係施設 | T36: 樋口配水池関係施設 精密点検 １工程
D37: ・ 樋口配水池
D38: ・ 樋口調整池
D40: 周南市上下水道局 菊川浄水場
D42: 光市水道局 林浄水場
A55: 備 考 欄

Sheet 設計書鏡
BJ4: 設計書（金抜き）
AJ7: 施 工 年 度 ： | BK7: 令和 8 年度
AJ9: 路 線・河 川 名 ：
AJ11: 工 事（業 務）名 ： | BK11: 樋口配水池計装機器点検業務委託
AJ14: 工 事（業務）場 所 ： | BK14: 周南市樋口配水池関係施設地内
AJ16: 箇 所 コ ー ド ：
AI18: 発注者が求める仕様について
AL19: 設計書（金抜き）に記載するもののうち、発注者が求める仕様は以下に示すものとする。
AL21: (1) 目的物の設計数量
AL22: (2) 工事に使用する材料の規格及び品質
AL23: (3) 特記仕様書や施工条件書等に定めのあるもの
AI25: その他（注意事項）
AL26: (1) | AO26: 入札時の見積りについて
AO27: 入札時の見積りにあたっての名称、規格、数量、単位等は、設計書（金抜き）によること。
AL28: (2) | AO28: 仮設、施工方法等
AO29: 仮設、施工方法その他工事の目的物を完成させるために必要な一切の手段については、特記仕様書、施工条
AN30: 件書等に定めがある場合を除き、受注者がその責任において定めるものとする。
AO31: 従って、原則として変更設計の対象とはならない。
AL32: (3) | AO32: 建設機械の指定について
AO33: 設計書（金抜き）に記載されている建設機械の機種や規格等のうち、施工条件書等で指定していないものは、
AN34: 積算上参考として標準的な機種等記載しているものであり、指定事項ではない。
AO35: 従って、原則として変更設計の対象とはならない。
AL36: (4) | AO36: 積算条件について
AO37: 設計書（金抜き）に記載されている現場固有の条件（施工条件(施工規模や土質等)、見積により決定した歩
AN38: 掛、現場条件により決まる交通誘導員の人数や仮設材の供用日数等、条件明示なしでは算出困難な日当り施工
AN39: 量や人役等）については、積算にあたって設定したものを積算上参考として記載しているものである。
AO40: 従って、これらの条件に変更があった場合には設計変更の対象となる。
AO41: なお、施工代価表内の例のような表記は、当該施工代価表における積算条件を示している。
AO42: (例) | AY42: A=1 土砂 B=1 オープンカット
AL43: (5) | AO43: 週休2日の補正について
AO44: 週休２日工事の補正対象となる単価コードについては、該当する工種の施工代価表の備考欄へ週休補正区分
AN45: とこれに対応した補正率を記載している。
AO46: ただし、施工パッケージ型積算方式についてはこの記載がないため留意すること。

Sheet 総括情報表（その１）
BN6: 総 括 情 報 表 | EO6: 頁 | ER6: - | ES6: 0002
D10: 事務所 | AD10: 71 | AG10: 周南市
D12: 適用単価地区 | AD12: 26 | AG12: 周南市(地区7除く山間部)
D15: 適用基準日 | AD15: 00-08.10.01(0)
D20: 工種区分 | AD20: 03 構造物工事（浄水場等）
D21: 週休補正区分 | AD21: 00 補正なし
D22: 施工地域・工事場所区分 | AD22: 00 補正なし
D23: 現場環境改善費区分 | AD23: 00 率計上しない
D24: 契約保証区分 | AD24: 03 補正しない
D25: 消費税率（％） | AD25: 10
CN34: 【代価表の諸雑費】
CN35: #09 … 単位数量当りの代価表の合計金額が、有効数字4桁になるように
CN36: 所定の諸雑費率以内で端数を計上している。
CN37: #91, #92, #99 … 単位数量当りの代価表の合計金額が、有効数字4桁に
CN38: なるように端数を計上している。
CN39: (※#01～#08では、有効数字4桁になるような端数計上はしていません。)

Sheet 工事内訳表
AK6: ＊本工事費＊ 内訳表 | EO6: 頁 | EQ6: 0 | ER6: - | ES6: 0003
Q9: 費目・工種・施工名称など | BE9: 数 量 | BT9: 単 位 | CF9: 単 価 | CX9: 金 額 | DV9: 備 考
C10: 本 工 事 費 | DL10: X1000
E14: 1- | G14: 樋口配水池計装機器点検業務委託 | DL14: Y1900
G18: 2- | I18: 計装機器点検業務委託 | DL18: Y2900
I22: 3- | K22: 点検業務費 | DL22: Y3900
BC25: 1 | BR25: 式 | DM25: 明第0001 表
C26: ＊＊直接工事費＊＊
C30: 共通仮設費率
C31: 分
C34: ＊＊共通仮設費計＊＊
C38: ＊＊純工事費＊＊
C42: 現場管理費
E46: 08-719-6198-1100-1-0
AK53: ＊本工事費＊ 内訳表 | EO53: 頁 | EQ53: 0 | ER53: - | ES53: 0004
Q56: 費目・工種・施工名称など | BE56: 数 量 | BT56: 単 位 | CF56: 単 価 | CX56: 金 額 | DV56: 備 考
C57: ＊＊間接工事費＊＊
C61: ＊＊工事原価＊＊
C65: 一般管理費等
C69: 一般管理費計
C73: ＊＊工事価格＊＊
C77: 消費税相当額
C81: ＊＊工事費計＊＊
E93: 08-719-6198-1100-1-0

Sheet 工種明細表
C6: 点検業務費 | BQ6: 工 種 明 細 表 | EO6: 頁 | EQ6: 0 | ER6: - | ES6: 0005
BC7: Y3900 | DC7: 明第0001 表
M9: 工 種 ・ 施 工 名 称 な ど | BE9: 数 量 | BT9: 単 位 | CF9: 単 価 | CX9: 金 額 | DV9: 備 考
O10: 樋口点検業務 | DL10: VV000001 | DX10: 00
BC13: 1 | BR13: 式 | DM13: 単第0 -0001 表
O16: ＊＊＊ 単位当たり ＊＊＊
BC17: 1 | BR17: 式
E46: 08-719-6198-1100-1-0

Sheet 施工内訳表
BQ6: 施 工 代 価 表 | EO6: 頁 | EQ6: 0 | ER6: - | ES6: 0006
C7: 樋口点検業務 | BC7: VV000001 | DC7: 単第0 -0001 表
DW8: 1 | EJ8: 式 | EU8: 当り
M9: 名 称 ・ 規 格 な ど | AY9: 数 量 | BM9: 単 位 | BY9: 単 価 | CS9: 金 額 | DQ9: 備 考
E10: 技術者 | DH10: RA921
AW11: 1 | BK11: 人
E13: 点検技術者（電気） | DH13: RA420
AW14: 12 | BK14: 人
E17: ＊＊＊ 単位当たり ＊＊＊ | AW17: 1 | BK17: 式
E46: 08-719-6198-1100-1-0
